BEGIN:VCALENDAR
VERSION:2.0
PRODID:-//RiverstoneMontessori - ECPv6.15.20//NONSGML v1.0//EN
CALSCALE:GREGORIAN
METHOD:PUBLISH
X-WR-CALNAME:RiverstoneMontessori
X-ORIGINAL-URL:https://riverstonemontessori.us
X-WR-CALDESC:Events for RiverstoneMontessori
REFRESH-INTERVAL;VALUE=DURATION:PT1H
X-Robots-Tag:noindex
X-PUBLISHED-TTL:PT1H
BEGIN:VTIMEZONE
TZID:America/New_York
BEGIN:DAYLIGHT
TZOFFSETFROM:-0500
TZOFFSETTO:-0400
TZNAME:EDT
DTSTART:20250309T070000
END:DAYLIGHT
BEGIN:STANDARD
TZOFFSETFROM:-0400
TZOFFSETTO:-0500
TZNAME:EST
DTSTART:20251102T060000
END:STANDARD
BEGIN:DAYLIGHT
TZOFFSETFROM:-0500
TZOFFSETTO:-0400
TZNAME:EDT
DTSTART:20260308T070000
END:DAYLIGHT
BEGIN:STANDARD
TZOFFSETFROM:-0400
TZOFFSETTO:-0500
TZNAME:EST
DTSTART:20261101T060000
END:STANDARD
BEGIN:DAYLIGHT
TZOFFSETFROM:-0500
TZOFFSETTO:-0400
TZNAME:EDT
DTSTART:20270314T070000
END:DAYLIGHT
BEGIN:STANDARD
TZOFFSETFROM:-0400
TZOFFSETTO:-0500
TZNAME:EST
DTSTART:20271107T060000
END:STANDARD
END:VTIMEZONE
BEGIN:VTIMEZONE
TZID:UTC
BEGIN:STANDARD
TZOFFSETFROM:+0000
TZOFFSETTO:+0000
TZNAME:UTC
DTSTART:20250101T000000
END:STANDARD
END:VTIMEZONE
BEGIN:VEVENT
DTSTART;VALUE=DATE:20260504
DTEND;VALUE=DATE:20260509
DTSTAMP:20260422T054149
CREATED:20260413T012110Z
LAST-MODIFIED:20260413T012110Z
UID:6929-1777852800-1778284799@riverstonemontessori.us
SUMMARY:Staff Appreciation Week
DESCRIPTION:
URL:https://riverstonemontessori.us/event/staff-appreciation-week-3/
END:VEVENT
BEGIN:VEVENT
DTSTART;TZID=UTC:20260508T070000
DTEND;TZID=UTC:20260508T100000
DTSTAMP:20260422T054149
CREATED:20260413T012511Z
LAST-MODIFIED:20260413T012511Z
UID:4192-1778223600-1778234400@riverstonemontessori.us
SUMMARY:Mother’s Day Breakfast: 7am -10 am
DESCRIPTION:
URL:https://riverstonemontessori.us/event/mothers-day-breakfast-7am-10-am/
END:VEVENT
BEGIN:VEVENT
DTSTART;VALUE=DATE:20260515
DTEND;VALUE=DATE:20260523
DTSTAMP:20260422T054149
CREATED:20260413T013006Z
LAST-MODIFIED:20260413T013006Z
UID:6938-1778803200-1779494399@riverstonemontessori.us
SUMMARY:Graduation Day & Annual Function: Early Release at 12pm
DESCRIPTION:
URL:https://riverstonemontessori.us/event/graduation-day-annual-function-early-release-at-12pm-3/
END:VEVENT
END:VCALENDAR