BEGIN:VCALENDAR
VERSION:2.0
PRODID:-//RiverstoneMontessori - ECPv6.15.20//NONSGML v1.0//EN
CALSCALE:GREGORIAN
METHOD:PUBLISH
X-WR-CALNAME:RiverstoneMontessori
X-ORIGINAL-URL:https://riverstonemontessori.us
X-WR-CALDESC:Events for RiverstoneMontessori
REFRESH-INTERVAL;VALUE=DURATION:PT1H
X-Robots-Tag:noindex
X-PUBLISHED-TTL:PT1H
BEGIN:VTIMEZONE
TZID:UTC
BEGIN:STANDARD
TZOFFSETFROM:+0000
TZOFFSETTO:+0000
TZNAME:UTC
DTSTART:20220101T000000
END:STANDARD
END:VTIMEZONE
BEGIN:VEVENT
DTSTART;VALUE=DATE:20230501
DTEND;VALUE=DATE:20230506
DTSTAMP:20260424T235104
CREATED:20230318T172011Z
LAST-MODIFIED:20230318T172359Z
UID:4190-1682899200-1683331199@riverstonemontessori.us
SUMMARY:Staff Appreciation Week
DESCRIPTION:
URL:https://riverstonemontessori.us/event/staff-appreciation-week/
END:VEVENT
BEGIN:VEVENT
DTSTART;TZID=UTC:20230422T080000
DTEND;TZID=UTC:20230520T120000
DTSTAMP:20260424T235104
CREATED:20230318T171333Z
LAST-MODIFIED:20230404T131052Z
UID:4178-1682150400-1684584000@riverstonemontessori.us
SUMMARY:Spring Bash (9-12noon)
DESCRIPTION:
URL:https://riverstonemontessori.us/event/spring-bash-9-12noon/
END:VEVENT
BEGIN:VEVENT
DTSTART;TZID=UTC:20230420T180000
DTEND;TZID=UTC:20230420T190000
DTSTAMP:20260424T235104
CREATED:20230318T171854Z
LAST-MODIFIED:20230318T171854Z
UID:4188-1682013600-1682017200@riverstonemontessori.us
SUMMARY:Father’s Night 6 pm – 7 pm (Primary Classroom)
DESCRIPTION:
URL:https://riverstonemontessori.us/event/fathers-night-6-pm-7-pm-primary-classroom/
END:VEVENT
BEGIN:VEVENT
DTSTART;VALUE=DATE:20230410
DTEND;VALUE=DATE:20230412
DTSTAMP:20260424T235104
CREATED:20230318T171708Z
LAST-MODIFIED:20230318T171708Z
UID:4186-1681084800-1681257599@riverstonemontessori.us
SUMMARY:Picture Day
DESCRIPTION:
URL:https://riverstonemontessori.us/event/picture-day/
END:VEVENT
BEGIN:VEVENT
DTSTART;VALUE=DATE:20230407
DTEND;VALUE=DATE:20230408
DTSTAMP:20260424T235104
CREATED:20230318T171613Z
LAST-MODIFIED:20230318T171613Z
UID:4184-1680825600-1680911999@riverstonemontessori.us
SUMMARY:Good Friday/School Closed
DESCRIPTION:
URL:https://riverstonemontessori.us/event/good-friday-school-closed/
END:VEVENT
BEGIN:VEVENT
DTSTART;VALUE=DATE:20230406
DTEND;VALUE=DATE:20230407
DTSTAMP:20260424T235104
CREATED:20230318T171528Z
LAST-MODIFIED:20230318T171528Z
UID:4182-1680739200-1680825599@riverstonemontessori.us
SUMMARY:Easter Egg Hunt NO UNIFORM
DESCRIPTION:
URL:https://riverstonemontessori.us/event/easter-egg-hunt-no-uniform/
END:VEVENT
BEGIN:VEVENT
DTSTART;TZID=UTC:20230331T080000
DTEND;TZID=UTC:20230331T170000
DTSTAMP:20260424T235104
CREATED:20230331T161019Z
LAST-MODIFIED:20230331T161019Z
UID:4393-1680249600-1680282000@riverstonemontessori.us
SUMMARY:summer camp
DESCRIPTION:
URL:https://riverstonemontessori.us/event/summer-camp/
END:VEVENT
BEGIN:VEVENT
DTSTART;VALUE=DATE:20230331
DTEND;VALUE=DATE:20230401
DTSTAMP:20260424T235104
CREATED:20230318T171424Z
LAST-MODIFIED:20230318T171424Z
UID:4180-1680220800-1680307199@riverstonemontessori.us
SUMMARY:Pre- Registration Ends for 2023-2024 School Year
DESCRIPTION:
URL:https://riverstonemontessori.us/event/pre-registration-ends-for-2023-2024-school-year/
END:VEVENT
BEGIN:VEVENT
DTSTART;VALUE=DATE:20230323
DTEND;VALUE=DATE:20230324
DTSTAMP:20260424T235104
CREATED:20230318T171239Z
LAST-MODIFIED:20230318T171239Z
UID:4176-1679529600-1679615999@riverstonemontessori.us
SUMMARY:Mother’s Night 6 – 7 pm (Primary Classroom)
DESCRIPTION:
URL:https://riverstonemontessori.us/event/mothers-night-6-7-pm-primary-classroom/
END:VEVENT
BEGIN:VEVENT
DTSTART;VALUE=DATE:20230313
DTEND;VALUE=DATE:20230318
DTSTAMP:20260424T235104
CREATED:20230318T171122Z
LAST-MODIFIED:20230318T171122Z
UID:4174-1678665600-1679097599@riverstonemontessori.us
SUMMARY:Spring Break (We will be OPEN)
DESCRIPTION:
URL:https://riverstonemontessori.us/event/spring-break-we-will-be-open/
END:VEVENT
BEGIN:VEVENT
DTSTART;VALUE=DATE:20230301
DTEND;VALUE=DATE:20230302
DTSTAMP:20260424T235104
CREATED:20230318T171030Z
LAST-MODIFIED:20230318T171030Z
UID:4172-1677628800-1677715199@riverstonemontessori.us
SUMMARY:Pre- Registration Begins for 2023-24 School Year
DESCRIPTION:
URL:https://riverstonemontessori.us/event/pre-registration-begins-for-2023-24-school-year/
END:VEVENT
END:VCALENDAR