BEGIN:VCALENDAR
VERSION:2.0
PRODID:-//RiverstoneMontessori - ECPv6.15.20//NONSGML v1.0//EN
CALSCALE:GREGORIAN
METHOD:PUBLISH
X-WR-CALNAME:RiverstoneMontessori
X-ORIGINAL-URL:https://riverstonemontessori.us
X-WR-CALDESC:Events for RiverstoneMontessori
REFRESH-INTERVAL;VALUE=DURATION:PT1H
X-Robots-Tag:noindex
X-PUBLISHED-TTL:PT1H
BEGIN:VTIMEZONE
TZID:America/New_York
BEGIN:DAYLIGHT
TZOFFSETFROM:-0500
TZOFFSETTO:-0400
TZNAME:EDT
DTSTART:20230312T070000
END:DAYLIGHT
BEGIN:STANDARD
TZOFFSETFROM:-0400
TZOFFSETTO:-0500
TZNAME:EST
DTSTART:20231105T060000
END:STANDARD
BEGIN:DAYLIGHT
TZOFFSETFROM:-0500
TZOFFSETTO:-0400
TZNAME:EDT
DTSTART:20240310T070000
END:DAYLIGHT
BEGIN:STANDARD
TZOFFSETFROM:-0400
TZOFFSETTO:-0500
TZNAME:EST
DTSTART:20241103T060000
END:STANDARD
BEGIN:DAYLIGHT
TZOFFSETFROM:-0500
TZOFFSETTO:-0400
TZNAME:EDT
DTSTART:20250309T070000
END:DAYLIGHT
BEGIN:STANDARD
TZOFFSETFROM:-0400
TZOFFSETTO:-0500
TZNAME:EST
DTSTART:20251102T060000
END:STANDARD
BEGIN:DAYLIGHT
TZOFFSETFROM:-0500
TZOFFSETTO:-0400
TZNAME:EDT
DTSTART:20260308T070000
END:DAYLIGHT
BEGIN:STANDARD
TZOFFSETFROM:-0400
TZOFFSETTO:-0500
TZNAME:EST
DTSTART:20261101T060000
END:STANDARD
END:VTIMEZONE
BEGIN:VEVENT
DTSTART;VALUE=DATE:20250417
DTEND;VALUE=DATE:20250418
DTSTAMP:20260424T111245
CREATED:20250406T222729Z
LAST-MODIFIED:20250406T222729Z
UID:6826-1744848000-1744934399@riverstonemontessori.us
SUMMARY:Egg Hunt - NO UNIFORM
DESCRIPTION:
URL:https://riverstonemontessori.us/event/egg-hunt-no-uniform/
END:VEVENT
BEGIN:VEVENT
DTSTART;VALUE=DATE:20250410
DTEND;VALUE=DATE:20250411
DTSTAMP:20260424T111245
CREATED:20250406T222700Z
LAST-MODIFIED:20250406T222700Z
UID:6824-1744243200-1744329599@riverstonemontessori.us
SUMMARY:Father's Night (5:30pm -6:30pm) - Primary Only
DESCRIPTION:
URL:https://riverstonemontessori.us/event/fathers-night-530pm-630pm-primary-only/
END:VEVENT
BEGIN:VEVENT
DTSTART;VALUE=DATE:20250404
DTEND;VALUE=DATE:20250405
DTSTAMP:20260424T111245
CREATED:20250228T221954Z
LAST-MODIFIED:20250320T151050Z
UID:6752-1743724800-1743811199@riverstonemontessori.us
SUMMARY:International Festival
DESCRIPTION:
URL:https://riverstonemontessori.us/event/international-festival-2/
END:VEVENT
BEGIN:VEVENT
DTSTART;VALUE=DATE:20250331
DTEND;VALUE=DATE:20250401
DTSTAMP:20260424T111245
CREATED:20250320T150630Z
LAST-MODIFIED:20250320T150630Z
UID:6786-1743379200-1743465599@riverstonemontessori.us
SUMMARY:Re-Enrollment Ends for 2025-2026
DESCRIPTION:
URL:https://riverstonemontessori.us/event/re-enrollment-ends-for-2025-2026/
END:VEVENT
BEGIN:VEVENT
DTSTART;TZID=America/New_York:20250329T093000
DTEND;TZID=America/New_York:20250329T113000
DTSTAMP:20260424T111245
CREATED:20250320T150732Z
LAST-MODIFIED:20250320T150732Z
UID:6788-1743240600-1743247800@riverstonemontessori.us
SUMMARY:Open house for Sugarland is on march 29th from 9:30 to 11:30
DESCRIPTION:
URL:https://riverstonemontessori.us/event/open-house-for-sugarland-is-on-march-29th-from-930-to-1130/
END:VEVENT
BEGIN:VEVENT
DTSTART;VALUE=DATE:20250328
DTEND;VALUE=DATE:20250329
DTSTAMP:20260424T111245
CREATED:20250321T025140Z
LAST-MODIFIED:20250321T025140Z
UID:6818-1743120000-1743206399@riverstonemontessori.us
SUMMARY:Test Sugarland event1
DESCRIPTION:
URL:https://riverstonemontessori.us/event/test-sugarland-event1/
CATEGORIES:Sugarland
END:VEVENT
BEGIN:VEVENT
DTSTART;VALUE=DATE:20250327
DTEND;VALUE=DATE:20250328
DTSTAMP:20260424T111245
CREATED:20250320T150600Z
LAST-MODIFIED:20250320T150600Z
UID:6784-1743033600-1743119999@riverstonemontessori.us
SUMMARY:Mother's Night (5:30pm–6:30pm) Primary Only
DESCRIPTION:
URL:https://riverstonemontessori.us/event/mothers-night-530pm-630pm-primary-only/
END:VEVENT
BEGIN:VEVENT
DTSTART;VALUE=DATE:20250303
DTEND;VALUE=DATE:20250304
DTSTAMP:20260424T111245
CREATED:20250228T221818Z
LAST-MODIFIED:20250228T221818Z
UID:6744-1740960000-1741046399@riverstonemontessori.us
SUMMARY:Re-Enrollment Begins for 2025-2026
DESCRIPTION:
URL:https://riverstonemontessori.us/event/re-enrollment-begins-for-2025-2026/
END:VEVENT
BEGIN:VEVENT
DTSTART;TZID=America/New_York:20250227T173000
DTEND;TZID=America/New_York:20250227T183000
DTSTAMP:20260424T111245
CREATED:20250228T221705Z
LAST-MODIFIED:20250228T221705Z
UID:6739-1740677400-1740681000@riverstonemontessori.us
SUMMARY:Kindergarten Night (5:30pm - 6:30pm) Primary Only
DESCRIPTION:
URL:https://riverstonemontessori.us/event/kindergarten-night-530pm-630pm-primary-only/
END:VEVENT
BEGIN:VEVENT
DTSTART;VALUE=DATE:20250217
DTEND;VALUE=DATE:20250218
DTSTAMP:20260424T111245
CREATED:20250202T025644Z
LAST-MODIFIED:20250202T025644Z
UID:6731-1739750400-1739836799@riverstonemontessori.us
SUMMARY:Staff Development day: School Closed
DESCRIPTION:
URL:https://riverstonemontessori.us/event/staff-development-day-school-closed-3/
END:VEVENT
BEGIN:VEVENT
DTSTART;VALUE=DATE:20250214
DTEND;VALUE=DATE:20250215
DTSTAMP:20260424T111245
CREATED:20250106T040607Z
LAST-MODIFIED:20250106T040607Z
UID:6646-1739491200-1739577599@riverstonemontessori.us
SUMMARY:Valentine's Party - NO UNIFORM
DESCRIPTION:
URL:https://riverstonemontessori.us/event/valentines-party-no-uniform/
END:VEVENT
BEGIN:VEVENT
DTSTART;VALUE=DATE:20250203
DTEND;VALUE=DATE:20250208
DTSTAMP:20260424T111245
CREATED:20250106T040312Z
LAST-MODIFIED:20250106T040312Z
UID:6641-1738540800-1738972799@riverstonemontessori.us
SUMMARY:Parents Teacher Conference Week - Primary and Toddlers
DESCRIPTION:
URL:https://riverstonemontessori.us/event/parents-teacher-conference-week-primary-and-toddlers/
END:VEVENT
BEGIN:VEVENT
DTSTART;VALUE=DATE:20250120
DTEND;VALUE=DATE:20250121
DTSTAMP:20260424T111245
CREATED:20250106T040118Z
LAST-MODIFIED:20250106T040118Z
UID:6636-1737331200-1737417599@riverstonemontessori.us
SUMMARY:MLK Day - School Closed
DESCRIPTION:
URL:https://riverstonemontessori.us/event/mlk-day-school-closed/
END:VEVENT
BEGIN:VEVENT
DTSTART;VALUE=DATE:20241231
DTEND;VALUE=DATE:20250101
DTSTAMP:20260424T111245
CREATED:20241222T170112Z
LAST-MODIFIED:20241222T170112Z
UID:6629-1735603200-1735689599@riverstonemontessori.us
SUMMARY:New Year's Eve - School Closed
DESCRIPTION:
URL:https://riverstonemontessori.us/event/new-years-eve-school-closed/
END:VEVENT
BEGIN:VEVENT
DTSTART;VALUE=DATE:20241230
DTEND;VALUE=DATE:20241231
DTSTAMP:20260424T111245
CREATED:20241222T165949Z
LAST-MODIFIED:20241222T170029Z
UID:6626-1735516800-1735603199@riverstonemontessori.us
SUMMARY:Staff Development Day - School Closed
DESCRIPTION:
URL:https://riverstonemontessori.us/event/staff-development-day/
END:VEVENT
BEGIN:VEVENT
DTSTART;VALUE=DATE:20241223
DTEND;VALUE=DATE:20241226
DTSTAMP:20260424T111245
CREATED:20241222T165713Z
LAST-MODIFIED:20241222T165748Z
UID:6620-1734912000-1735171199@riverstonemontessori.us
SUMMARY:Christmas Break - School closed
DESCRIPTION:
URL:https://riverstonemontessori.us/event/christmas-break/
END:VEVENT
BEGIN:VEVENT
DTSTART;VALUE=DATE:20241220
DTEND;VALUE=DATE:20241221
DTSTAMP:20260424T111245
CREATED:20241202T043344Z
LAST-MODIFIED:20241202T043344Z
UID:6600-1734652800-1734739199@riverstonemontessori.us
SUMMARY:Pajama day & Early Release at 3pm
DESCRIPTION:
URL:https://riverstonemontessori.us/event/pajama-day-early-release-at-3pm/
END:VEVENT
BEGIN:VEVENT
DTSTART;VALUE=DATE:20241213
DTEND;VALUE=DATE:20241214
DTSTAMP:20260424T111245
CREATED:20241202T043113Z
LAST-MODIFIED:20241202T043113Z
UID:6598-1734048000-1734134399@riverstonemontessori.us
SUMMARY:Book Exchange & Holiday Party (Primary)
DESCRIPTION:
URL:https://riverstonemontessori.us/event/book-exchange-holiday-party-primary-2/
END:VEVENT
BEGIN:VEVENT
DTSTART;VALUE=DATE:20241212
DTEND;VALUE=DATE:20241213
DTSTAMP:20260424T111245
CREATED:20241202T042936Z
LAST-MODIFIED:20241202T042936Z
UID:6596-1733961600-1734047999@riverstonemontessori.us
SUMMARY:Holiday Singing & Party (Toddler) NO UNIFORM
DESCRIPTION:
URL:https://riverstonemontessori.us/event/holiday-singing-party-toddler-no-uniform-2/
END:VEVENT
BEGIN:VEVENT
DTSTART;VALUE=DATE:20241128
DTEND;VALUE=DATE:20241130
DTSTAMP:20260424T111245
CREATED:20241012T130246Z
LAST-MODIFIED:20241012T130246Z
UID:6451-1732752000-1732924799@riverstonemontessori.us
SUMMARY:Thanksgiving Break\, School Closed
DESCRIPTION:
URL:https://riverstonemontessori.us/event/thanksgiving-break-school-closed/
END:VEVENT
BEGIN:VEVENT
DTSTART;VALUE=DATE:20241122
DTEND;VALUE=DATE:20241123
DTSTAMP:20260424T111245
CREATED:20241012T130611Z
LAST-MODIFIED:20241012T130611Z
UID:6453-1732233600-1732319999@riverstonemontessori.us
SUMMARY:Thanksgiving Lunch
DESCRIPTION:
URL:https://riverstonemontessori.us/event/thanksgiving-lunch/
END:VEVENT
BEGIN:VEVENT
DTSTART;VALUE=DATE:20241031
DTEND;VALUE=DATE:20241101
DTSTAMP:20260424T111245
CREATED:20241002T014557Z
LAST-MODIFIED:20241002T014633Z
UID:6440-1730332800-1730419199@riverstonemontessori.us
SUMMARY:Halloween Parade
DESCRIPTION:
URL:https://riverstonemontessori.us/event/halloween-parade/
END:VEVENT
BEGIN:VEVENT
DTSTART;VALUE=DATE:20241021
DTEND;VALUE=DATE:20241026
DTSTAMP:20260424T111245
CREATED:20241002T014347Z
LAST-MODIFIED:20241002T014347Z
UID:6436-1729468800-1729900799@riverstonemontessori.us
SUMMARY:Parents Teacher Conference Week. Primary and Toddler
DESCRIPTION:
URL:https://riverstonemontessori.us/event/parents-teacher-conference-week-primary-and-toddler/
END:VEVENT
BEGIN:VEVENT
DTSTART;TZID=America/New_York:20241011T160000
DTEND;TZID=America/New_York:20241011T180000
DTSTAMP:20260424T111245
CREATED:20241002T014454Z
LAST-MODIFIED:20241002T014454Z
UID:6438-1728662400-1728669600@riverstonemontessori.us
SUMMARY:Fall Festival (4pm – 6pm) (Early Release at 3pm)
DESCRIPTION:
URL:https://riverstonemontessori.us/event/fall-festival-4pm-6pm-early-release-at-3pm/
END:VEVENT
BEGIN:VEVENT
DTSTART;VALUE=DATE:20240902
DTEND;VALUE=DATE:20240903
DTSTAMP:20260424T111245
CREATED:20240807T000753Z
LAST-MODIFIED:20250826T203109Z
UID:6212-1725235200-1725321599@riverstonemontessori.us
SUMMARY:Labor day (School closed)
DESCRIPTION:
URL:https://riverstonemontessori.us/event/labor-day-school-closed-2/
END:VEVENT
BEGIN:VEVENT
DTSTART;TZID=America/New_York:20240822T173000
DTEND;TZID=America/New_York:20240822T183000
DTSTAMP:20260424T111245
CREATED:20240807T000611Z
LAST-MODIFIED:20240807T000611Z
UID:6207-1724347800-1724351400@riverstonemontessori.us
SUMMARY:Curriculum Night (5:30pm-6:30pm)
DESCRIPTION:
URL:https://riverstonemontessori.us/event/curriculum-night-530pm-630pm/
END:VEVENT
BEGIN:VEVENT
DTSTART;VALUE=DATE:20240805
DTEND;VALUE=DATE:20240806
DTSTAMP:20260424T111245
CREATED:20240807T000135Z
LAST-MODIFIED:20240807T000450Z
UID:6202-1722816000-1722902399@riverstonemontessori.us
SUMMARY:First Day of School
DESCRIPTION:
URL:https://riverstonemontessori.us/event/first-day-of-school/
END:VEVENT
BEGIN:VEVENT
DTSTART;VALUE=DATE:20240802
DTEND;VALUE=DATE:20240803
DTSTAMP:20260424T111245
CREATED:20230828T024920Z
LAST-MODIFIED:20240802T101129Z
UID:5634-1722556800-1722643199@riverstonemontessori.us
SUMMARY:last Day of Summer Camp
DESCRIPTION:
URL:https://riverstonemontessori.us/event/last-day-of-summer-camp-2/
END:VEVENT
BEGIN:VEVENT
DTSTART;TZID=America/New_York:20240708T090000
DTEND;TZID=America/New_York:20240712T170000
DTSTAMP:20260424T111245
CREATED:20240629T124700Z
LAST-MODIFIED:20240802T101424Z
UID:6086-1720429200-1720803600@riverstonemontessori.us
SUMMARY:Back to School Open House - Walk-in Welcome
DESCRIPTION:
URL:https://riverstonemontessori.us/event/back-to-school-open-house-walk-in-welcome/
END:VEVENT
BEGIN:VEVENT
DTSTART;VALUE=DATE:20240704
DTEND;VALUE=DATE:20240705
DTSTAMP:20260424T111245
CREATED:20240629T124429Z
LAST-MODIFIED:20240802T101637Z
UID:6084-1720051200-1720137599@riverstonemontessori.us
SUMMARY:Independence Day - School Closed
DESCRIPTION:
URL:https://riverstonemontessori.us/event/independence-day-school-closed/
END:VEVENT
END:VCALENDAR