BEGIN:VCALENDAR
VERSION:2.0
PRODID:-//RiverstoneMontessori - ECPv6.15.20//NONSGML v1.0//EN
CALSCALE:GREGORIAN
METHOD:PUBLISH
X-WR-CALNAME:RiverstoneMontessori
X-ORIGINAL-URL:https://riverstonemontessori.us
X-WR-CALDESC:Events for RiverstoneMontessori
REFRESH-INTERVAL;VALUE=DURATION:PT1H
X-Robots-Tag:noindex
X-PUBLISHED-TTL:PT1H
BEGIN:VTIMEZONE
TZID:America/New_York
BEGIN:DAYLIGHT
TZOFFSETFROM:-0500
TZOFFSETTO:-0400
TZNAME:EDT
DTSTART:20220313T070000
END:DAYLIGHT
BEGIN:STANDARD
TZOFFSETFROM:-0400
TZOFFSETTO:-0500
TZNAME:EST
DTSTART:20221106T060000
END:STANDARD
BEGIN:DAYLIGHT
TZOFFSETFROM:-0500
TZOFFSETTO:-0400
TZNAME:EDT
DTSTART:20230312T070000
END:DAYLIGHT
BEGIN:STANDARD
TZOFFSETFROM:-0400
TZOFFSETTO:-0500
TZNAME:EST
DTSTART:20231105T060000
END:STANDARD
BEGIN:DAYLIGHT
TZOFFSETFROM:-0500
TZOFFSETTO:-0400
TZNAME:EDT
DTSTART:20240310T070000
END:DAYLIGHT
BEGIN:STANDARD
TZOFFSETFROM:-0400
TZOFFSETTO:-0500
TZNAME:EST
DTSTART:20241103T060000
END:STANDARD
BEGIN:DAYLIGHT
TZOFFSETFROM:-0500
TZOFFSETTO:-0400
TZNAME:EDT
DTSTART:20250309T070000
END:DAYLIGHT
BEGIN:STANDARD
TZOFFSETFROM:-0400
TZOFFSETTO:-0500
TZNAME:EST
DTSTART:20251102T060000
END:STANDARD
END:VTIMEZONE
BEGIN:VEVENT
DTSTART;TZID=America/New_York:20241011T160000
DTEND;TZID=America/New_York:20241011T180000
DTSTAMP:20260424T203058
CREATED:20241002T014454Z
LAST-MODIFIED:20241002T014454Z
UID:6438-1728662400-1728669600@riverstonemontessori.us
SUMMARY:Fall Festival (4pm – 6pm) (Early Release at 3pm)
DESCRIPTION:
URL:https://riverstonemontessori.us/event/fall-festival-4pm-6pm-early-release-at-3pm/
END:VEVENT
BEGIN:VEVENT
DTSTART;VALUE=DATE:20240902
DTEND;VALUE=DATE:20240903
DTSTAMP:20260424T203058
CREATED:20240807T000753Z
LAST-MODIFIED:20250826T203109Z
UID:6212-1725235200-1725321599@riverstonemontessori.us
SUMMARY:Labor day (School closed)
DESCRIPTION:
URL:https://riverstonemontessori.us/event/labor-day-school-closed-2/
END:VEVENT
BEGIN:VEVENT
DTSTART;TZID=America/New_York:20240822T173000
DTEND;TZID=America/New_York:20240822T183000
DTSTAMP:20260424T203058
CREATED:20240807T000611Z
LAST-MODIFIED:20240807T000611Z
UID:6207-1724347800-1724351400@riverstonemontessori.us
SUMMARY:Curriculum Night (5:30pm-6:30pm)
DESCRIPTION:
URL:https://riverstonemontessori.us/event/curriculum-night-530pm-630pm/
END:VEVENT
BEGIN:VEVENT
DTSTART;VALUE=DATE:20240805
DTEND;VALUE=DATE:20240806
DTSTAMP:20260424T203058
CREATED:20240807T000135Z
LAST-MODIFIED:20240807T000450Z
UID:6202-1722816000-1722902399@riverstonemontessori.us
SUMMARY:First Day of School
DESCRIPTION:
URL:https://riverstonemontessori.us/event/first-day-of-school/
END:VEVENT
BEGIN:VEVENT
DTSTART;VALUE=DATE:20240802
DTEND;VALUE=DATE:20240803
DTSTAMP:20260424T203058
CREATED:20230828T024920Z
LAST-MODIFIED:20240802T101129Z
UID:5634-1722556800-1722643199@riverstonemontessori.us
SUMMARY:last Day of Summer Camp
DESCRIPTION:
URL:https://riverstonemontessori.us/event/last-day-of-summer-camp-2/
END:VEVENT
BEGIN:VEVENT
DTSTART;TZID=America/New_York:20240708T090000
DTEND;TZID=America/New_York:20240712T170000
DTSTAMP:20260424T203058
CREATED:20240629T124700Z
LAST-MODIFIED:20240802T101424Z
UID:6086-1720429200-1720803600@riverstonemontessori.us
SUMMARY:Back to School Open House - Walk-in Welcome
DESCRIPTION:
URL:https://riverstonemontessori.us/event/back-to-school-open-house-walk-in-welcome/
END:VEVENT
BEGIN:VEVENT
DTSTART;VALUE=DATE:20240704
DTEND;VALUE=DATE:20240705
DTSTAMP:20260424T203058
CREATED:20240629T124429Z
LAST-MODIFIED:20240802T101637Z
UID:6084-1720051200-1720137599@riverstonemontessori.us
SUMMARY:Independence Day - School Closed
DESCRIPTION:
URL:https://riverstonemontessori.us/event/independence-day-school-closed/
END:VEVENT
BEGIN:VEVENT
DTSTART;VALUE=DATE:20240601
DTEND;VALUE=DATE:20240602
DTSTAMP:20260424T203058
CREATED:20230828T024834Z
LAST-MODIFIED:20240802T103435Z
UID:5632-1717200000-1717286399@riverstonemontessori.us
SUMMARY:First Day of Summer Camp
DESCRIPTION:
URL:https://riverstonemontessori.us/event/first-day-of-summer-camp/
END:VEVENT
BEGIN:VEVENT
DTSTART;VALUE=DATE:20240527
DTEND;VALUE=DATE:20240528
DTSTAMP:20260424T203058
CREATED:20230911T015938Z
LAST-MODIFIED:20240802T104512Z
UID:5647-1716768000-1716854399@riverstonemontessori.us
SUMMARY:Memorial Day (School Closed)
DESCRIPTION:
URL:https://riverstonemontessori.us/event/memorial-day-school-closed-3/
END:VEVENT
BEGIN:VEVENT
DTSTART;VALUE=DATE:20240524
DTEND;VALUE=DATE:20240525
DTSTAMP:20260424T203058
CREATED:20230828T024657Z
LAST-MODIFIED:20240802T110046Z
UID:5628-1716508800-1716595199@riverstonemontessori.us
SUMMARY:Last Day of School (Splash Day) & Early Release at 12pm
DESCRIPTION:
URL:https://riverstonemontessori.us/event/last-day-of-school-splash-day-early-release-at-12pm-2/
END:VEVENT
BEGIN:VEVENT
DTSTART;VALUE=DATE:20240510
DTEND;VALUE=DATE:20240511
DTSTAMP:20260424T203058
CREATED:20230828T024516Z
LAST-MODIFIED:20240802T105848Z
UID:5624-1715299200-1715385599@riverstonemontessori.us
SUMMARY:Mother’s Day Breakfast
DESCRIPTION:
URL:https://riverstonemontessori.us/event/mothers-day-breakfast-2/
END:VEVENT
BEGIN:VEVENT
DTSTART;VALUE=DATE:20240509
DTEND;VALUE=DATE:20240510
DTSTAMP:20260424T203058
CREATED:20230828T024608Z
LAST-MODIFIED:20240802T105542Z
UID:5626-1715212800-1715299199@riverstonemontessori.us
SUMMARY:Graduation Day & Annual Function & Early Release at 12pm
DESCRIPTION:
URL:https://riverstonemontessori.us/event/graduation-day-annual-function-early-release-at-12pm-2/
END:VEVENT
BEGIN:VEVENT
DTSTART;VALUE=DATE:20240506
DTEND;VALUE=DATE:20240511
DTSTAMP:20260424T203058
CREATED:20230828T024424Z
LAST-MODIFIED:20240802T105730Z
UID:5622-1714953600-1715385599@riverstonemontessori.us
SUMMARY:Staff Appreciation Week
DESCRIPTION:
URL:https://riverstonemontessori.us/event/staff-appreciation-week-2/
END:VEVENT
BEGIN:VEVENT
DTSTART;TZID=America/New_York:20240425T180000
DTEND;TZID=America/New_York:20240425T190000
DTSTAMP:20260424T203058
CREATED:20230828T024326Z
LAST-MODIFIED:20240802T105401Z
UID:5620-1714068000-1714071600@riverstonemontessori.us
SUMMARY:Father’s Night 6 pm – 7 pm (Primary Classroom)
DESCRIPTION:
URL:https://riverstonemontessori.us/event/fathers-night-6-pm-7-pm-primary-classroom-2/
END:VEVENT
BEGIN:VEVENT
DTSTART;VALUE=DATE:20240419
DTEND;VALUE=DATE:20240420
DTSTAMP:20260424T203058
CREATED:20230828T024207Z
LAST-MODIFIED:20240802T105234Z
UID:5618-1713484800-1713571199@riverstonemontessori.us
SUMMARY:International Festival
DESCRIPTION:
URL:https://riverstonemontessori.us/event/international-festival/
END:VEVENT
BEGIN:VEVENT
DTSTART;VALUE=DATE:20240329
DTEND;VALUE=DATE:20240330
DTSTAMP:20260424T203058
CREATED:20230828T023917Z
LAST-MODIFIED:20240802T105113Z
UID:5614-1711670400-1711756799@riverstonemontessori.us
SUMMARY:Good Friday/School Closed
DESCRIPTION:
URL:https://riverstonemontessori.us/event/good-friday-school-closed-2/
END:VEVENT
BEGIN:VEVENT
DTSTART;VALUE=DATE:20240328
DTEND;VALUE=DATE:20240329
DTSTAMP:20260424T203058
CREATED:20230828T024030Z
LAST-MODIFIED:20240802T104834Z
UID:5616-1711584000-1711670399@riverstonemontessori.us
SUMMARY:Re- Enrollment Ends for 2024-2025 School Year
DESCRIPTION:
URL:https://riverstonemontessori.us/event/re-enrollment-ends-for-2024-2025-school-year/
END:VEVENT
BEGIN:VEVENT
DTSTART;VALUE=DATE:20240328
DTEND;VALUE=DATE:20240329
DTSTAMP:20260424T203058
CREATED:20230828T023828Z
LAST-MODIFIED:20240812T114748Z
UID:5612-1711584000-1711670399@riverstonemontessori.us
SUMMARY:Easter Egg Hunt (NO UNIFORM)
DESCRIPTION:
URL:https://riverstonemontessori.us/event/easter-egg-hunt-no-uniform-2/
END:VEVENT
BEGIN:VEVENT
DTSTART;TZID=America/New_York:20240321T180000
DTEND;TZID=America/New_York:20240321T190000
DTSTAMP:20260424T203058
CREATED:20230828T023738Z
LAST-MODIFIED:20240812T115406Z
UID:5610-1711044000-1711047600@riverstonemontessori.us
SUMMARY:Mother’s Night 6 – 7 pm (Primary Classroom)
DESCRIPTION:
URL:https://riverstonemontessori.us/event/mothers-night-6-7-pm-primary-classroom-2/
END:VEVENT
BEGIN:VEVENT
DTSTART;VALUE=DATE:20240301
DTEND;VALUE=DATE:20240302
DTSTAMP:20260424T203058
CREATED:20230828T023624Z
LAST-MODIFIED:20240812T115010Z
UID:5608-1709251200-1709337599@riverstonemontessori.us
SUMMARY:Re-Enrollment Begins for 2024-25 School Year
DESCRIPTION:
URL:https://riverstonemontessori.us/event/re-enrollment-begins-for-2024-25-school-year/
END:VEVENT
BEGIN:VEVENT
DTSTART;TZID=America/New_York:20240222T180000
DTEND;TZID=America/New_York:20240222T190000
DTSTAMP:20260424T203058
CREATED:20230828T023527Z
LAST-MODIFIED:20240812T113555Z
UID:5606-1708624800-1708628400@riverstonemontessori.us
SUMMARY:Kindergarten Night 6 pm- 7 pm (Primary only)
DESCRIPTION:
URL:https://riverstonemontessori.us/event/kindergarten-night-6-pm-7-pm-primary-only/
END:VEVENT
BEGIN:VEVENT
DTSTART;VALUE=DATE:20240219
DTEND;VALUE=DATE:20240220
DTSTAMP:20260424T203058
CREATED:20230828T023303Z
LAST-MODIFIED:20230828T023303Z
UID:5604-1708300800-1708387199@riverstonemontessori.us
SUMMARY:Staff Development Day/School Closed
DESCRIPTION:
URL:https://riverstonemontessori.us/event/staff-development-day-school-closed-2/
END:VEVENT
BEGIN:VEVENT
DTSTART;VALUE=DATE:20240214
DTEND;VALUE=DATE:20240215
DTSTAMP:20260424T203058
CREATED:20230828T023220Z
LAST-MODIFIED:20240812T115209Z
UID:5602-1707868800-1707955199@riverstonemontessori.us
SUMMARY:Valentine’s Party (11 am–12 pm) NO UNIFOR
DESCRIPTION:
URL:https://riverstonemontessori.us/event/valentines-party-11-am-12-pm-no-unifor/
END:VEVENT
BEGIN:VEVENT
DTSTART;VALUE=DATE:20240205
DTEND;VALUE=DATE:20240210
DTSTAMP:20260424T203058
CREATED:20230828T023135Z
LAST-MODIFIED:20240812T113111Z
UID:5600-1707091200-1707523199@riverstonemontessori.us
SUMMARY:Parents Teacher Conference week
DESCRIPTION:
URL:https://riverstonemontessori.us/event/parents-teacher-conference-week-2/
END:VEVENT
BEGIN:VEVENT
DTSTART;VALUE=DATE:20240103
DTEND;VALUE=DATE:20240104
DTSTAMP:20260424T203058
CREATED:20230828T023028Z
LAST-MODIFIED:20240812T114531Z
UID:5598-1704240000-1704326399@riverstonemontessori.us
SUMMARY:First Day of School (II Semester)
DESCRIPTION:
URL:https://riverstonemontessori.us/event/first-day-of-school-ii-semester/
END:VEVENT
BEGIN:VEVENT
DTSTART;VALUE=DATE:20240102
DTEND;VALUE=DATE:20240103
DTSTAMP:20260424T203058
CREATED:20230828T022949Z
LAST-MODIFIED:20240802T110230Z
UID:5596-1704153600-1704239999@riverstonemontessori.us
SUMMARY:Staff Development Day/School Closed
DESCRIPTION:
URL:https://riverstonemontessori.us/event/staff-development-day-school-closed/
END:VEVENT
BEGIN:VEVENT
DTSTART;VALUE=DATE:20240101
DTEND;VALUE=DATE:20240102
DTSTAMP:20260424T203058
CREATED:20230828T022900Z
LAST-MODIFIED:20240812T114329Z
UID:5594-1704067200-1704153599@riverstonemontessori.us
SUMMARY:New Year/School Closed
DESCRIPTION:
URL:https://riverstonemontessori.us/event/new-year-school-closed/
END:VEVENT
BEGIN:VEVENT
DTSTART;VALUE=DATE:20231229
DTEND;VALUE=DATE:20231230
DTSTAMP:20260424T203058
CREATED:20230828T022621Z
LAST-MODIFIED:20230828T022621Z
UID:5592-1703808000-1703894399@riverstonemontessori.us
SUMMARY:New Year eve/School Closed
DESCRIPTION:
URL:https://riverstonemontessori.us/event/new-year-eve-school-closed/
END:VEVENT
BEGIN:VEVENT
DTSTART;VALUE=DATE:20231225
DTEND;VALUE=DATE:20231226
DTSTAMP:20260424T203058
CREATED:20230828T022536Z
LAST-MODIFIED:20230828T022536Z
UID:5590-1703462400-1703548799@riverstonemontessori.us
SUMMARY:Christmas/School Closed
DESCRIPTION:
URL:https://riverstonemontessori.us/event/christmas-school-closed/
END:VEVENT
BEGIN:VEVENT
DTSTART;VALUE=DATE:20231222
DTEND;VALUE=DATE:20231223
DTSTAMP:20260424T203058
CREATED:20230828T022447Z
LAST-MODIFIED:20230828T022447Z
UID:5588-1703203200-1703289599@riverstonemontessori.us
SUMMARY:Christmas Eve/School Closed
DESCRIPTION:
URL:https://riverstonemontessori.us/event/christmas-eve-school-closed/
END:VEVENT
END:VCALENDAR